BEGIN:VCALENDAR
VERSION:2.0
PRODID:-//ChamberMaster//Event Calendar 2.0//EN
METHOD:PUBLISH
X-PUBLISHED-TTL:P3D
REFRESH-INTERVAL:P3D
CALSCALE:GREGORIAN
BEGIN:VEVENT
DTSTART:20240917T200000Z
DTEND:20240917T220000Z
X-MICROSOFT-CDO-ALLDAYEVENT:FALSE
SUMMARY:THE MARKET AT SECOND STAGE
DESCRIPTION:JOIN SECOND STAGE AMHERST AND SOME OF THE AREA'S BEST PRODUCERS\, BAKERS\, AND MAKERS FOR THE MARKET AT SECOND STAGE! HELD EVERY TUESDAY FROM 4-6PM THROUGH SEPTEMBER. THE MARKET WILL BE HELD IN THE MAIN HALL SHOULD THERE BE RAIN.
X-ALT-DESC;FMTTYPE=text/html:JOIN SECOND STAGE AMHERST AND SOME OF THE AREA&#39\;S BEST PRODUCERS\, BAKERS\, AND MAKERS FOR THE MARKET AT SECOND STAGE! HELD EVERY TUESDAY FROM 4-6PM THROUGH SEPTEMBER. THE MARKET WILL BE HELD IN THE MAIN HALL SHOULD THERE BE RAIN.
LOCATION:SECOND STAGE AMHERST
UID:e.2185.9601
SEQUENCE:3
DTSTAMP:20260421T004845Z
URL:https://business.amherstvachamber.com/events/details/the-market-at-second-stage-09-17-2024-9601
END:VEVENT

END:VCALENDAR
