BEGIN:VCALENDAR
VERSION:2.0
PRODID:-//ChamberMaster//Event Calendar 2.0//EN
METHOD:PUBLISH
X-PUBLISHED-TTL:P3D
REFRESH-INTERVAL:P3D
CALSCALE:GREGORIAN
BEGIN:VEVENT
DTSTART:20230513T170000Z
DTEND:20230513T200000Z
X-MICROSOFT-CDO-ALLDAYEVENT:FALSE
SUMMARY:Miss Amherst County Pageant
DESCRIPTION:Join us for the Miss Amherst County Pageant at Second Stage Amherst!
X-ALT-DESC;FMTTYPE=text/html:Join us for the Miss Amherst County Pageant at Second Stage Amherst!
LOCATION:Second Stage Amherst 194 Second Street Amherst
UID:e.2185.8715
SEQUENCE:3
DTSTAMP:20260421T160017Z
URL:https://business.amherstvachamber.com/events/details/miss-amherst-county-pageant-8715
END:VEVENT

END:VCALENDAR
