BEGIN:VCALENDAR
VERSION:2.0
PRODID:-//ChamberMaster//Event Calendar 2.0//EN
METHOD:PUBLISH
X-PUBLISHED-TTL:P3D
REFRESH-INTERVAL:P3D
CALSCALE:GREGORIAN
BEGIN:VEVENT
DTSTART:20150912T140000Z
DTEND:20150912T210000Z
X-MICROSOFT-CDO-ALLDAYEVENT:FALSE
SUMMARY:Amherst - Nelson Farm & Family Day at Lazy Day Winery
DESCRIPTION:Amherst - Nelson Farm and Family Day\n\nSaturday\, September 12th\n\n10am to 5pm\n\nat\n\nLazy Day Winery\n\nFOOD - FREE CARNIVAL GAMES - EDUCATION DISPLAYS - HAY RIDES - LOCAL BANDS - DEMONSTRATIONS - LIVE ANIMALS - DOOR PRIZES & HOURLY DRAWINGS
X-ALT-DESC;FMTTYPE=text/html:<div style="text-align: center\;"><strong><span style="color: rgb(0\, 100\, 0)\;"><span style="font-family: tahoma\;"><span style="font-size: 18px\;">Amherst - Nelson Farm and Family Day<br />\nSaturday\, September 12th</span></span></span></strong><br />\n<strong><span style="color: rgb(0\, 100\, 0)\;"><span style="font-family: tahoma\;"><span style="font-size: 16px\;">10am to 5pm<br />\nat</span></span><br />\n<span style="font-size: 18px\;">Lazy Day Winery</span><br />\n<span style="font-size: 16px\;">FOOD - FREE CARNIVAL GAMES - EDUCATION DISPLAYS - HAY RIDES - LOCAL BANDS - DEMONSTRATIONS - LIVE ANIMALS - DOOR PRIZES &amp\; HOURLY DRAWINGS</span></span></strong><br />\n<br />\n&nbsp\;</div>\n
LOCATION:Lazy Days Winery 1351 N. Amherst Hwy. Amherst\, VA.
UID:e.2185.1100
SEQUENCE:3
DTSTAMP:20260420T133532Z
URL:http://business.amherstvachamber.com/events/details/amherst-nelson-farm-family-day-at-lazy-day-winery-09-12-2015-1100
END:VEVENT

END:VCALENDAR
